BEGIN:VCALENDAR
VERSION:2.0
PRODID:-//Anglerverein Wandlitz e.V. - ECPv6.15.20//NONSGML v1.0//EN
CALSCALE:GREGORIAN
METHOD:PUBLISH
X-WR-CALNAME:Anglerverein Wandlitz e.V.
X-ORIGINAL-URL:https://anglerverein-wandlitz.de
X-WR-CALDESC:Veranstaltungen für Anglerverein Wandlitz e.V.
REFRESH-INTERVAL;VALUE=DURATION:PT1H
X-Robots-Tag:noindex
X-PUBLISHED-TTL:PT1H
BEGIN:VTIMEZONE
TZID:Europe/Berlin
BEGIN:DAYLIGHT
TZOFFSETFROM:+0100
TZOFFSETTO:+0200
TZNAME:CEST
DTSTART:20220327T010000
END:DAYLIGHT
BEGIN:STANDARD
TZOFFSETFROM:+0200
TZOFFSETTO:+0100
TZNAME:CET
DTSTART:20221030T010000
END:STANDARD
BEGIN:DAYLIGHT
TZOFFSETFROM:+0100
TZOFFSETTO:+0200
TZNAME:CEST
DTSTART:20230326T010000
END:DAYLIGHT
BEGIN:STANDARD
TZOFFSETFROM:+0200
TZOFFSETTO:+0100
TZNAME:CET
DTSTART:20231029T010000
END:STANDARD
BEGIN:DAYLIGHT
TZOFFSETFROM:+0100
TZOFFSETTO:+0200
TZNAME:CEST
DTSTART:20240331T010000
END:DAYLIGHT
BEGIN:STANDARD
TZOFFSETFROM:+0200
TZOFFSETTO:+0100
TZNAME:CET
DTSTART:20241027T010000
END:STANDARD
END:VTIMEZONE
BEGIN:VEVENT
DTSTART;TZID=Europe/Berlin:20231208T190000
DTEND;TZID=Europe/Berlin:20231208T220000
DTSTAMP:20260424T225158
CREATED:20231116T180131Z
LAST-MODIFIED:20231116T192129Z
UID:6929-1702062000-1702072800@anglerverein-wandlitz.de
SUMMARY:Jahresabschlußfeier
DESCRIPTION:Brahthähnchenabend \nTeilen mit:\n				Einen Link per E-Mail an einen Freund senden (Wird in neuem Fenster geöffnet)\n				E-Mail\n			\n				Auf Facebook teilen (Wird in neuem Fenster geöffnet)\n				Facebook
URL:https://anglerverein-wandlitz.de/event/jahresabschlussfeier2023/
LOCATION:Am Anglerheim 1. Pfuhl
CATEGORIES:Veranstaltungen und Termine
END:VEVENT
END:VCALENDAR