BEGIN:VCALENDAR
VERSION:2.0
PRODID:-//Anglerverein Wandlitz e.V. - ECPv6.15.20//NONSGML v1.0//EN
CALSCALE:GREGORIAN
METHOD:PUBLISH
X-WR-CALNAME:Anglerverein Wandlitz e.V.
X-ORIGINAL-URL:https://anglerverein-wandlitz.de
X-WR-CALDESC:Veranstaltungen für Anglerverein Wandlitz e.V.
REFRESH-INTERVAL;VALUE=DURATION:PT1H
X-Robots-Tag:noindex
X-PUBLISHED-TTL:PT1H
BEGIN:VTIMEZONE
TZID:Europe/Berlin
BEGIN:DAYLIGHT
TZOFFSETFROM:+0100
TZOFFSETTO:+0200
TZNAME:CEST
DTSTART:20230326T010000
END:DAYLIGHT
BEGIN:STANDARD
TZOFFSETFROM:+0200
TZOFFSETTO:+0100
TZNAME:CET
DTSTART:20231029T010000
END:STANDARD
BEGIN:DAYLIGHT
TZOFFSETFROM:+0100
TZOFFSETTO:+0200
TZNAME:CEST
DTSTART:20240331T010000
END:DAYLIGHT
BEGIN:STANDARD
TZOFFSETFROM:+0200
TZOFFSETTO:+0100
TZNAME:CET
DTSTART:20241027T010000
END:STANDARD
BEGIN:DAYLIGHT
TZOFFSETFROM:+0100
TZOFFSETTO:+0200
TZNAME:CEST
DTSTART:20250330T010000
END:DAYLIGHT
BEGIN:STANDARD
TZOFFSETFROM:+0200
TZOFFSETTO:+0100
TZNAME:CET
DTSTART:20251026T010000
END:STANDARD
END:VTIMEZONE
BEGIN:VEVENT
DTSTART;TZID=Europe/Berlin:20240519T110000
DTEND;TZID=Europe/Berlin:20240519T170000
DTSTAMP:20260424T155549
CREATED:20230708T132731Z
LAST-MODIFIED:20240505T112308Z
UID:6682-1716116400-1716138000@anglerverein-wandlitz.de
SUMMARY:Kinderschnupperangeln (Helfer gesucht)
DESCRIPTION:Anlässlich des Barnim Panorama Museumfest 2024 öffnet der Anglerverin Wandlitz e.V seine Türen am Wandlitzsee und bietet ein Schnupperangeln für Kinder an.\nEs werden noch freiwillige Helfer zur Unterstützung gesucht. \nTeilen mit:\n				Einen Link per E-Mail an einen Freund senden (Wird in neuem Fenster geöffnet)\n				E-Mail\n			\n				Auf Facebook teilen (Wird in neuem Fenster geöffnet)\n				Facebook
URL:https://anglerverein-wandlitz.de/event/kinderschnupperangeln/
CATEGORIES:Veranstaltungen und Termine
END:VEVENT
END:VCALENDAR