BEGIN:VCALENDAR
VERSION:2.0
PRODID:-//Anglerverein Wandlitz e.V. - ECPv6.15.20//NONSGML v1.0//EN
CALSCALE:GREGORIAN
METHOD:PUBLISH
X-ORIGINAL-URL:https://anglerverein-wandlitz.de
X-WR-CALDESC:Veranstaltungen für Anglerverein Wandlitz e.V.
REFRESH-INTERVAL;VALUE=DURATION:PT1H
X-Robots-Tag:noindex
X-PUBLISHED-TTL:PT1H
BEGIN:VTIMEZONE
TZID:Europe/Berlin
BEGIN:DAYLIGHT
TZOFFSETFROM:+0100
TZOFFSETTO:+0200
TZNAME:CEST
DTSTART:20230326T010000
END:DAYLIGHT
BEGIN:STANDARD
TZOFFSETFROM:+0200
TZOFFSETTO:+0100
TZNAME:CET
DTSTART:20231029T010000
END:STANDARD
BEGIN:DAYLIGHT
TZOFFSETFROM:+0100
TZOFFSETTO:+0200
TZNAME:CEST
DTSTART:20240331T010000
END:DAYLIGHT
BEGIN:STANDARD
TZOFFSETFROM:+0200
TZOFFSETTO:+0100
TZNAME:CET
DTSTART:20241027T010000
END:STANDARD
BEGIN:DAYLIGHT
TZOFFSETFROM:+0100
TZOFFSETTO:+0200
TZNAME:CEST
DTSTART:20250330T010000
END:DAYLIGHT
BEGIN:STANDARD
TZOFFSETFROM:+0200
TZOFFSETTO:+0100
TZNAME:CET
DTSTART:20251026T010000
END:STANDARD
END:VTIMEZONE
BEGIN:VEVENT
DTSTART;TZID=Europe/Berlin:20240518T070000
DTEND;TZID=Europe/Berlin:20240518T120000
DTSTAMP:20260424T142519
CREATED:20230523T144145Z
LAST-MODIFIED:20240225T113434Z
UID:6539-1716015600-1716033600@anglerverein-wandlitz.de
SUMMARY:Spinnangeln am Wandlitzsee
DESCRIPTION:Teilen mit:\n				Einen Link per E-Mail an einen Freund senden (Wird in neuem Fenster geöffnet)\n				E-Mail\n			\n				Auf Facebook teilen (Wird in neuem Fenster geöffnet)\n				Facebook
URL:https://anglerverein-wandlitz.de/event/spinnangeln-2/
LOCATION:Anlegestelle Wandlitzsee
CATEGORIES:Veranstaltungen und Termine
ORGANIZER;CN="Anglerverein Wandlitz e.V.":MAILTO:stellvertreter@anglerverein-wandlitz.de
END:VEVENT
BEGIN:VEVENT
DTSTART;TZID=Europe/Berlin:20240519T110000
DTEND;TZID=Europe/Berlin:20240519T170000
DTSTAMP:20260424T142519
CREATED:20230708T132731Z
LAST-MODIFIED:20240505T112308Z
UID:6682-1716116400-1716138000@anglerverein-wandlitz.de
SUMMARY:Kinderschnupperangeln (Helfer gesucht)
DESCRIPTION:Anlässlich des Barnim Panorama Museumfest 2024 öffnet der Anglerverin Wandlitz e.V seine Türen am Wandlitzsee und bietet ein Schnupperangeln für Kinder an.\nEs werden noch freiwillige Helfer zur Unterstützung gesucht. \nTeilen mit:\n				Einen Link per E-Mail an einen Freund senden (Wird in neuem Fenster geöffnet)\n				E-Mail\n			\n				Auf Facebook teilen (Wird in neuem Fenster geöffnet)\n				Facebook
URL:https://anglerverein-wandlitz.de/event/kinderschnupperangeln/
CATEGORIES:Veranstaltungen und Termine
END:VEVENT
BEGIN:VEVENT
DTSTART;TZID=Europe/Berlin:20240525T120000
DTEND;TZID=Europe/Berlin:20240525T180000
DTSTAMP:20260424T142519
CREATED:20240524T134142Z
LAST-MODIFIED:20240524T134915Z
UID:7317-1716638400-1716660000@anglerverein-wandlitz.de
SUMMARY:Hegefischen des AVN in Marienwerder
DESCRIPTION:Ort Altes Sägewerk in Marienwerder \nTreffpunkt ab 12:00 Uhr \nAngelzeit 14:00-17:00 Uhr \nTeilen mit:\n				Einen Link per E-Mail an einen Freund senden (Wird in neuem Fenster geöffnet)\n				E-Mail\n			\n				Auf Facebook teilen (Wird in neuem Fenster geöffnet)\n				Facebook
URL:https://anglerverein-wandlitz.de/event/hegefischen-des-avn-in-marienwerder/
LOCATION:neuer Werbelinkanal in Marienwerder\, Marienwerder
CATEGORIES:aktuell,Veranstaltungen und Termine
ATTACH;FMTTYPE=image/jpeg:https://anglerverein-wandlitz.de/wp-content/uploads/2023/05/P1040565-scaled.jpg
END:VEVENT
BEGIN:VEVENT
DTSTART;TZID=Europe/Berlin:20240526T090000
DTEND;TZID=Europe/Berlin:20240526T150000
DTSTAMP:20260424T142519
CREATED:20210927T082408Z
LAST-MODIFIED:20240524T134816Z
UID:5349-1716714000-1716735600@anglerverein-wandlitz.de
SUMMARY:5. Kreishegemeisterschaft der Frauen des AVN
DESCRIPTION:Treffpunkt 09.00 Uhr\, \nOrt Altes Sägewerk in Marienwerder \nAngelzeit von 13:30-13:30 Uhr \nTeilen mit:\n				Einen Link per E-Mail an einen Freund senden (Wird in neuem Fenster geöffnet)\n				E-Mail\n			\n				Auf Facebook teilen (Wird in neuem Fenster geöffnet)\n				Facebook
URL:https://anglerverein-wandlitz.de/event/5-kreishegemeisterschaft-der-frauen-des-avn/
LOCATION:Altes Sägewerk Marienwerder
CATEGORIES:aktuell,Veranstaltungen und Termine
ATTACH;FMTTYPE=image/jpeg:https://anglerverein-wandlitz.de/wp-content/uploads/2023/05/P1040637-scaled.jpg
END:VEVENT
END:VCALENDAR